Package: rfaRm Version: 1.14.2 Command: F:\biocbuild\bbs-3.18-bioc\R\bin\R.exe CMD INSTALL rfaRm StartedAt: 2024-04-15 16:36:48 -0400 (Mon, 15 Apr 2024) EndedAt: 2024-04-15 16:37:07 -0400 (Mon, 15 Apr 2024) EllapsedTime: 19.4 seconds RetCode: 0 Status: OK