Package: rfaRm Version: 1.14.2 Command: /home/biocbuild/bbs-3.18-bioc/R/bin/R CMD build --keep-empty-dirs --no-resave-data rfaRm StartedAt: 2024-04-15 18:48:59 -0400 (Mon, 15 Apr 2024) EndedAt: 2024-04-15 18:49:49 -0400 (Mon, 15 Apr 2024) EllapsedTime: 50.7 seconds RetCode: 0 Status: OK PackageFile: rfaRm_1.14.2.tar.gz PackageFileSize: 581.6 KiB