Package: rfaRm Version: 1.14.2 Command: /Library/Frameworks/R.framework/Resources/bin/R CMD INSTALL rfaRm StartedAt: 2024-04-15 16:23:54 -0400 (Mon, 15 Apr 2024) EndedAt: 2024-04-15 16:24:21 -0400 (Mon, 15 Apr 2024) EllapsedTime: 27.0 seconds RetCode: 0 Status: OK