Package: rfaRm Version: 1.14.2 Command: /Library/Frameworks/R.framework/Resources/bin/R CMD build --keep-empty-dirs --no-resave-data rfaRm StartedAt: 2024-04-15 21:16:07 -0400 (Mon, 15 Apr 2024) EndedAt: 2024-04-15 21:17:16 -0400 (Mon, 15 Apr 2024) EllapsedTime: 68.4 seconds RetCode: 0 Status: OK PackageFile: rfaRm_1.14.2.tar.gz PackageFileSize: 532.8 KiB