Package: rfaRm Version: 1.14.0 Command: /home/biocbuild/R/R-4.3.1/bin/R CMD INSTALL rfaRm StartedAt: 2023-11-01 20:53:43 -0000 (Wed, 01 Nov 2023) EndedAt: 2023-11-01 20:59:46 -0000 (Wed, 01 Nov 2023) EllapsedTime: 363.5 seconds RetCode: 0 Status: OK