Package: rfPred Version: 1.40.0 Command: rm -rf rfPred.buildbin-libdir && mkdir rfPred.buildbin-libdir && /Users/biocbuild/BBS/utils/build-universal.sh rfPred_1.40.0.tar.gz /Library/Frameworks/R.framework/Resources/bin/R rfPred.buildbin-libdir StartedAt: 2024-04-16 12:32:46 -0400 (Tue, 16 Apr 2024) EndedAt: 2024-04-16 12:33:15 -0400 (Tue, 16 Apr 2024) EllapsedTime: 29.2 seconds RetCode: 0 Status: OK PackageFile: rfPred_1.40.0.tgz PackageFileSize: 1.075 MiB