Package: rexposome Version: 1.24.1 Command: F:\biocbuild\bbs-3.18-bioc\R\bin\R.exe CMD INSTALL rexposome StartedAt: 2024-04-15 16:33:11 -0400 (Mon, 15 Apr 2024) EndedAt: 2024-04-15 16:33:49 -0400 (Mon, 15 Apr 2024) EllapsedTime: 37.8 seconds RetCode: 0 Status: OK