Package: rexposome Version: 1.24.1 Command: /home/biocbuild/bbs-3.18-bioc/R/bin/R CMD check --install=check:rexposome.install-out.txt --library=/home/biocbuild/bbs-3.18-bioc/R/site-library --timings rexposome_1.24.1.tar.gz StartedAt: 2024-04-16 02:56:48 -0400 (Tue, 16 Apr 2024) EndedAt: 2024-04-16 03:01:26 -0400 (Tue, 16 Apr 2024) EllapsedTime: 277.8 seconds RetCode: 0 Status: WARNINGS CheckDir: rexposome.Rcheck Warnings: 5