Package: rexposome Version: 1.24.1 Command: /Library/Frameworks/R.framework/Resources/bin/R CMD INSTALL rexposome StartedAt: 2024-04-15 16:22:04 -0400 (Mon, 15 Apr 2024) EndedAt: 2024-04-15 16:22:54 -0400 (Mon, 15 Apr 2024) EllapsedTime: 49.8 seconds RetCode: 0 Status: OK