Package: rexposome Version: 1.24.1 Command: /Library/Frameworks/R.framework/Resources/bin/R CMD build --keep-empty-dirs --no-resave-data rexposome StartedAt: 2024-04-15 21:16:02 -0400 (Mon, 15 Apr 2024) EndedAt: 2024-04-15 21:19:39 -0400 (Mon, 15 Apr 2024) EllapsedTime: 217.3 seconds RetCode: 0 Status: OK PackageFile: rexposome_1.24.1.tar.gz PackageFileSize: 8.016 MiB