Package: rexposome Version: 1.24.1 Command: /Library/Frameworks/R.framework/Resources/bin/R CMD check --install=check:rexposome.install-out.txt --library=/Library/Frameworks/R.framework/Resources/library --no-vignettes --timings rexposome_1.24.1.tar.gz StartedAt: 2024-03-03 22:55:55 -0500 (Sun, 03 Mar 2024) EndedAt: 2024-03-03 22:59:07 -0500 (Sun, 03 Mar 2024) EllapsedTime: 191.3 seconds RetCode: 0 Status: WARNINGS CheckDir: rexposome.Rcheck Warnings: 5