Package: rexposome Version: 1.24.0 Command: /home/biocbuild/R/R-4.3.1/bin/R CMD INSTALL rexposome StartedAt: 2023-11-01 20:52:34 -0000 (Wed, 01 Nov 2023) EndedAt: 2023-11-01 20:53:04 -0000 (Wed, 01 Nov 2023) EllapsedTime: 30.4 seconds RetCode: 0 Status: OK