Package: rexposome Version: 1.24.0 Command: /home/biocbuild/R/R-4.3.1/bin/R CMD check --install=check:rexposome.install-out.txt --library=/home/biocbuild/R/R-4.3.1/site-library --no-vignettes --timings rexposome_1.24.0.tar.gz StartedAt: 2023-11-02 13:39:30 -0000 (Thu, 02 Nov 2023) EndedAt: 2023-11-02 13:43:19 -0000 (Thu, 02 Nov 2023) EllapsedTime: 229.5 seconds RetCode: 1 Status: ERROR CheckDir: rexposome.Rcheck Warnings: NA