Package: regutools Version: 1.14.0 Command: F:\biocbuild\bbs-3.18-bioc\R\bin\R.exe CMD INSTALL regutools StartedAt: 2024-04-15 16:45:50 -0400 (Mon, 15 Apr 2024) EndedAt: 2024-04-15 16:47:01 -0400 (Mon, 15 Apr 2024) EllapsedTime: 70.5 seconds RetCode: 0 Status: OK