Package: regutools Version: 1.14.0 Command: rm -rf regutools.buildbin-libdir && mkdir regutools.buildbin-libdir && F:\biocbuild\bbs-3.18-bioc\R\bin\R.exe CMD INSTALL --build --library=regutools.buildbin-libdir regutools_1.14.0.tar.gz StartedAt: 2024-04-16 07:32:02 -0400 (Tue, 16 Apr 2024) EndedAt: 2024-04-16 07:33:19 -0400 (Tue, 16 Apr 2024) EllapsedTime: 76.6 seconds RetCode: 0 Status: OK PackageFile: regutools_1.14.0.zip PackageFileSize: 921.2 KiB