Package: regutools Version: 1.14.0 Command: /home/biocbuild/bbs-3.18-bioc/R/bin/R CMD build --keep-empty-dirs --no-resave-data regutools StartedAt: 2024-04-15 18:47:39 -0400 (Mon, 15 Apr 2024) EndedAt: 2024-04-15 18:49:01 -0400 (Mon, 15 Apr 2024) EllapsedTime: 81.7 seconds RetCode: 0 Status: OK PackageFile: regutools_1.14.0.tar.gz PackageFileSize: 372.9 KiB