Package: regutools Version: 1.14.0 Command: /Library/Frameworks/R.framework/Resources/bin/R CMD INSTALL regutools StartedAt: 2024-04-15 16:40:16 -0400 (Mon, 15 Apr 2024) EndedAt: 2024-04-15 16:42:09 -0400 (Mon, 15 Apr 2024) EllapsedTime: 112.9 seconds RetCode: 0 Status: OK