Package: regutools Version: 1.14.0 Command: /Library/Frameworks/R.framework/Resources/bin/R CMD build --keep-empty-dirs --no-resave-data regutools StartedAt: 2024-04-15 21:14:06 -0400 (Mon, 15 Apr 2024) EndedAt: 2024-04-15 21:16:54 -0400 (Mon, 15 Apr 2024) EllapsedTime: 168.2 seconds RetCode: 0 Status: OK PackageFile: regutools_1.14.0.tar.gz PackageFileSize: 378.9 KiB