Package: regutools Version: 1.14.0 Command: rm -rf regutools.buildbin-libdir && mkdir regutools.buildbin-libdir && /Users/biocbuild/BBS/utils/build-universal.sh regutools_1.14.0.tar.gz /Library/Frameworks/R.framework/Resources/bin/R regutools.buildbin-libdir StartedAt: 2024-04-16 12:31:44 -0400 (Tue, 16 Apr 2024) EndedAt: 2024-04-16 12:33:40 -0400 (Tue, 16 Apr 2024) EllapsedTime: 116.2 seconds RetCode: 0 Status: OK PackageFile: regutools_1.14.0.tgz PackageFileSize: 935.6 KiB