Package: regutools Version: 1.14.0 Command: /Library/Frameworks/R.framework/Resources/bin/R CMD INSTALL regutools StartedAt: 2024-03-03 15:44:51 -0500 (Sun, 03 Mar 2024) EndedAt: 2024-03-03 15:46:09 -0500 (Sun, 03 Mar 2024) EllapsedTime: 77.7 seconds RetCode: 0 Status: OK