Package: regutools Version: 1.14.0 Command: rm -rf regutools.buildbin-libdir && mkdir regutools.buildbin-libdir && /Users/biocbuild/BBS/utils/build-universal.sh regutools_1.14.0.tar.gz /Library/Frameworks/R.framework/Resources/bin/R regutools.buildbin-libdir StartedAt: 2024-03-04 00:59:09 -0500 (Mon, 04 Mar 2024) EndedAt: 2024-03-04 01:00:31 -0500 (Mon, 04 Mar 2024) EllapsedTime: 81.2 seconds RetCode: 0 Status: OK PackageFile: regutools_1.14.0.tgz PackageFileSize: 929 KiB