Package: regutools Version: 1.14.0 Command: /home/biocbuild/R/R-4.3.1/bin/R CMD INSTALL regutools StartedAt: 2023-11-01 21:03:35 -0000 (Wed, 01 Nov 2023) EndedAt: 2023-11-01 21:04:50 -0000 (Wed, 01 Nov 2023) EllapsedTime: 75.3 seconds RetCode: 0 Status: OK