Package: regsplice Version: 1.28.1 Command: chmod a+r regsplice -R && F:\biocbuild\bbs-3.18-bioc\R\bin\R.exe CMD build --keep-empty-dirs --no-resave-data regsplice StartedAt: 2024-04-15 20:38:42 -0400 (Mon, 15 Apr 2024) EndedAt: 2024-04-15 20:39:40 -0400 (Mon, 15 Apr 2024) EllapsedTime: 58.2 seconds RetCode: 0 Status: OK PackageFile: regsplice_1.28.1.tar.gz PackageFileSize: 287.2 KiB