Package: regioneR Version: 1.34.0 Command: /Library/Frameworks/R.framework/Resources/bin/R CMD build --keep-empty-dirs --no-resave-data regioneR StartedAt: 2024-03-03 17:58:56 -0500 (Sun, 03 Mar 2024) EndedAt: 2024-03-03 18:00:58 -0500 (Sun, 03 Mar 2024) EllapsedTime: 122.8 seconds RetCode: 0 Status: OK PackageFile: regioneR_1.34.0.tar.gz PackageFileSize: 1.841 MiB