Package: regioneR Version: 1.34.0 Command: /home/biocbuild/R/R-4.3.1/bin/R CMD INSTALL regioneR StartedAt: 2023-11-01 20:25:23 -0000 (Wed, 01 Nov 2023) EndedAt: 2023-11-01 20:26:09 -0000 (Wed, 01 Nov 2023) EllapsedTime: 46.3 seconds RetCode: 0 Status: OK