Package: regioneR Version: 1.34.0 Command: /home/biocbuild/R/R-4.3.1/bin/R CMD check --install=check:regioneR.install-out.txt --library=/home/biocbuild/R/R-4.3.1/site-library --no-vignettes --timings regioneR_1.34.0.tar.gz StartedAt: 2023-11-02 13:34:39 -0000 (Thu, 02 Nov 2023) EndedAt: 2023-11-02 13:44:08 -0000 (Thu, 02 Nov 2023) EllapsedTime: 569.1 seconds RetCode: 0 Status: OK CheckDir: regioneR.Rcheck Warnings: 0