Package: regionalpcs Version: 1.0.0 Command: F:\biocbuild\bbs-3.18-bioc\R\bin\R.exe CMD INSTALL regionalpcs StartedAt: 2024-04-15 16:35:52 -0400 (Mon, 15 Apr 2024) EndedAt: 2024-04-15 16:35:55 -0400 (Mon, 15 Apr 2024) EllapsedTime: 3.1 seconds RetCode: 0 Status: OK