Package: regionalpcs Version: 1.0.0 Command: /Library/Frameworks/R.framework/Resources/bin/R CMD INSTALL regionalpcs StartedAt: 2024-03-03 15:39:31 -0500 (Sun, 03 Mar 2024) EndedAt: 2024-03-03 15:39:34 -0500 (Sun, 03 Mar 2024) EllapsedTime: 3.7 seconds RetCode: 0 Status: OK