Package: recoup Version: 1.30.0 Command: chmod a+r recoup -R && F:\biocbuild\bbs-3.18-bioc\R\bin\R.exe CMD build --keep-empty-dirs --no-resave-data recoup StartedAt: 2024-04-15 20:37:42 -0400 (Mon, 15 Apr 2024) EndedAt: 2024-04-15 20:38:55 -0400 (Mon, 15 Apr 2024) EllapsedTime: 72.8 seconds RetCode: 0 Status: OK PackageFile: recoup_1.30.0.tar.gz PackageFileSize: 2.252 MiB