Package: recoup Version: 1.30.0 Command: rm -rf recoup.buildbin-libdir && mkdir recoup.buildbin-libdir && F:\biocbuild\bbs-3.18-bioc\R\bin\R.exe CMD INSTALL --build --library=recoup.buildbin-libdir recoup_1.30.0.tar.gz StartedAt: 2024-04-16 07:31:41 -0400 (Tue, 16 Apr 2024) EndedAt: 2024-04-16 07:32:44 -0400 (Tue, 16 Apr 2024) EllapsedTime: 62.6 seconds RetCode: 0 Status: OK PackageFile: recoup_1.30.0.zip PackageFileSize: 2.698 MiB