Package: recoup Version: 1.30.0 Command: /home/biocbuild/bbs-3.18-bioc/R/bin/R CMD build --keep-empty-dirs --no-resave-data recoup StartedAt: 2024-04-15 18:46:35 -0400 (Mon, 15 Apr 2024) EndedAt: 2024-04-15 18:47:31 -0400 (Mon, 15 Apr 2024) EllapsedTime: 56.1 seconds RetCode: 0 Status: OK PackageFile: recoup_1.30.0.tar.gz PackageFileSize: 2.252 MiB