Package: recoup Version: 1.30.0 Command: /home/biocbuild/R/R-4.3.1/bin/R CMD build --keep-empty-dirs --no-resave-data recoup StartedAt: 2023-11-02 05:03:22 -0000 (Thu, 02 Nov 2023) EndedAt: 2023-11-02 05:04:40 -0000 (Thu, 02 Nov 2023) EllapsedTime: 78.1 seconds RetCode: 0 Status: OK PackageFile: recoup_1.30.0.tar.gz PackageFileSize: 2.318 MiB