Package: recount3 Version: 1.12.0 Command: chmod a+r recount3 -R && F:\biocbuild\bbs-3.18-bioc\R\bin\R.exe CMD build --keep-empty-dirs --no-resave-data recount3 StartedAt: 2024-04-15 20:37:33 -0400 (Mon, 15 Apr 2024) EndedAt: 2024-04-15 20:40:23 -0400 (Mon, 15 Apr 2024) EllapsedTime: 169.4 seconds RetCode: 0 Status: OK PackageFile: recount3_1.12.0.tar.gz PackageFileSize: 563.2 KiB