Package: reconsi Version: 1.14.0 Command: /home/biocbuild/bbs-3.18-bioc/R/bin/R CMD build --keep-empty-dirs --no-resave-data reconsi StartedAt: 2024-04-15 18:46:18 -0400 (Mon, 15 Apr 2024) EndedAt: 2024-04-15 18:47:39 -0400 (Mon, 15 Apr 2024) EllapsedTime: 80.6 seconds RetCode: 0 Status: OK PackageFile: reconsi_1.14.0.tar.gz PackageFileSize: 118.2 KiB