Package: reconsi Version: 1.14.0 Command: rm -rf reconsi.buildbin-libdir && mkdir reconsi.buildbin-libdir && /Users/biocbuild/BBS/utils/build-universal.sh reconsi_1.14.0.tar.gz /Library/Frameworks/R.framework/Resources/bin/R reconsi.buildbin-libdir StartedAt: 2024-03-04 00:58:57 -0500 (Mon, 04 Mar 2024) EndedAt: 2024-03-04 00:59:28 -0500 (Mon, 04 Mar 2024) EllapsedTime: 30.6 seconds RetCode: 0 Status: OK PackageFile: reconsi_1.14.0.tgz PackageFileSize: 187.7 KiB