Package: reconsi Version: 1.14.0 Command: /home/biocbuild/R/R-4.3.1/bin/R CMD build --keep-empty-dirs --no-resave-data reconsi StartedAt: 2023-11-02 05:03:01 -0000 (Thu, 02 Nov 2023) EndedAt: 2023-11-02 05:04:55 -0000 (Thu, 02 Nov 2023) EllapsedTime: 114.2 seconds RetCode: 0 Status: OK PackageFile: reconsi_1.14.0.tar.gz PackageFileSize: 123.8 KiB