Package: receptLoss Version: 1.14.0 Command: rm -rf receptLoss.buildbin-libdir && mkdir receptLoss.buildbin-libdir && F:\biocbuild\bbs-3.18-bioc\R\bin\R.exe CMD INSTALL --build --library=receptLoss.buildbin-libdir receptLoss_1.14.0.tar.gz StartedAt: 2024-04-16 07:31:32 -0400 (Tue, 16 Apr 2024) EndedAt: 2024-04-16 07:32:07 -0400 (Tue, 16 Apr 2024) EllapsedTime: 35.3 seconds RetCode: 0 Status: OK PackageFile: receptLoss_1.14.0.zip PackageFileSize: 391.4 KiB