Package: receptLoss Version: 1.14.0 Command: /home/biocbuild/bbs-3.18-bioc/R/bin/R CMD build --keep-empty-dirs --no-resave-data receptLoss StartedAt: 2024-04-15 18:46:16 -0400 (Mon, 15 Apr 2024) EndedAt: 2024-04-15 18:46:46 -0400 (Mon, 15 Apr 2024) EllapsedTime: 29.9 seconds RetCode: 0 Status: OK PackageFile: receptLoss_1.14.0.tar.gz PackageFileSize: 639.5 KiB