Package: receptLoss Version: 1.14.0 Command: /Library/Frameworks/R.framework/Resources/bin/R CMD check --install=check:receptLoss.install-out.txt --library=/Library/Frameworks/R.framework/Resources/library --no-vignettes --timings receptLoss_1.14.0.tar.gz StartedAt: 2024-03-03 22:51:56 -0500 (Sun, 03 Mar 2024) EndedAt: 2024-03-03 22:55:07 -0500 (Sun, 03 Mar 2024) EllapsedTime: 190.4 seconds RetCode: 0 Status: OK CheckDir: receptLoss.Rcheck Warnings: 0