Package: rcellminer Version: 2.24.0 Command: /home/biocbuild/bbs-3.18-bioc/R/bin/R CMD check --install=check:rcellminer.install-out.txt --library=/home/biocbuild/bbs-3.18-bioc/R/site-library --timings rcellminer_2.24.0.tar.gz StartedAt: 2024-04-16 02:46:36 -0400 (Tue, 16 Apr 2024) EndedAt: 2024-04-16 02:52:53 -0400 (Tue, 16 Apr 2024) EllapsedTime: 377.0 seconds RetCode: 0 Status: WARNINGS CheckDir: rcellminer.Rcheck Warnings: 1