Package: rcellminer Version: 2.24.0 Command: rm -rf rcellminer.buildbin-libdir && mkdir rcellminer.buildbin-libdir && /Users/biocbuild/BBS/utils/build-universal.sh rcellminer_2.24.0.tar.gz /Library/Frameworks/R.framework/Resources/bin/R rcellminer.buildbin-libdir StartedAt: 2024-03-04 00:58:33 -0500 (Mon, 04 Mar 2024) EndedAt: 2024-03-04 00:58:47 -0500 (Mon, 04 Mar 2024) EllapsedTime: 13.4 seconds RetCode: 0 Status: OK PackageFile: rcellminer_2.24.0.tgz PackageFileSize: 2.577 MiB