Package: rbsurv Version: 2.60.0 Command: /Library/Frameworks/R.framework/Resources/bin/R CMD build --keep-empty-dirs --no-resave-data rbsurv StartedAt: 2024-04-15 21:09:13 -0400 (Mon, 15 Apr 2024) EndedAt: 2024-04-15 21:10:23 -0400 (Mon, 15 Apr 2024) EllapsedTime: 69.6 seconds RetCode: 0 Status: OK PackageFile: rbsurv_2.60.0.tar.gz PackageFileSize: 366.5 KiB