Package: rbsurv Version: 2.60.0 Command: /Library/Frameworks/R.framework/Resources/bin/R CMD check --install=check:rbsurv.install-out.txt --library=/Library/Frameworks/R.framework/Resources/library --no-vignettes --timings rbsurv_2.60.0.tar.gz StartedAt: 2024-03-03 22:50:18 -0500 (Sun, 03 Mar 2024) EndedAt: 2024-03-03 22:51:31 -0500 (Sun, 03 Mar 2024) EllapsedTime: 73.0 seconds RetCode: 0 Status: OK CheckDir: rbsurv.Rcheck Warnings: 0