Package: rbsurv Version: 2.60.0 Command: rm -rf rbsurv.buildbin-libdir && mkdir rbsurv.buildbin-libdir && /Users/biocbuild/BBS/utils/build-universal.sh rbsurv_2.60.0.tar.gz /Library/Frameworks/R.framework/Resources/bin/R rbsurv.buildbin-libdir StartedAt: 2024-03-04 00:58:32 -0500 (Mon, 04 Mar 2024) EndedAt: 2024-03-04 00:58:44 -0500 (Mon, 04 Mar 2024) EllapsedTime: 12.3 seconds RetCode: 0 Status: OK PackageFile: rbsurv_2.60.0.tgz PackageFileSize: 392.9 KiB