Package: rawrr Version: 1.10.2 Command: chmod a+r rawrr -R && F:\biocbuild\bbs-3.18-bioc\R\bin\R.exe CMD build --keep-empty-dirs --no-resave-data rawrr StartedAt: 2024-04-15 20:34:01 -0400 (Mon, 15 Apr 2024) EndedAt: 2024-04-15 20:35:10 -0400 (Mon, 15 Apr 2024) EllapsedTime: 69.0 seconds RetCode: 0 Status: OK PackageFile: rawrr_1.10.2.tar.gz PackageFileSize: 1.377 MiB