Package: rawrr Version: 1.10.2 Command: /Library/Frameworks/R.framework/Resources/bin/R CMD INSTALL rawrr StartedAt: 2024-04-15 15:04:43 -0400 (Mon, 15 Apr 2024) EndedAt: 2024-04-15 15:04:48 -0400 (Mon, 15 Apr 2024) EllapsedTime: 5.9 seconds RetCode: 0 Status: OK