Package: rawrr Version: 1.10.2 Command: /Library/Frameworks/R.framework/Resources/bin/R CMD build --keep-empty-dirs --no-resave-data rawrr StartedAt: 2024-04-15 21:07:52 -0400 (Mon, 15 Apr 2024) EndedAt: 2024-04-15 21:09:13 -0400 (Mon, 15 Apr 2024) EllapsedTime: 81.1 seconds RetCode: 0 Status: OK PackageFile: rawrr_1.10.2.tar.gz PackageFileSize: 1.96 MiB