Package: rawrr Version: 1.10.2 Command: rm -rf rawrr.buildbin-libdir && mkdir rawrr.buildbin-libdir && /Users/biocbuild/BBS/utils/build-universal.sh rawrr_1.10.2.tar.gz /Library/Frameworks/R.framework/Resources/bin/R rawrr.buildbin-libdir StartedAt: 2024-04-16 12:30:02 -0400 (Tue, 16 Apr 2024) EndedAt: 2024-04-16 12:30:10 -0400 (Tue, 16 Apr 2024) EllapsedTime: 7.5 seconds RetCode: 0 Status: OK PackageFile: rawrr_1.10.2.tgz PackageFileSize: 1.989 MiB