Package: rawrr Version: 1.10.2 Command: /Library/Frameworks/R.framework/Resources/bin/R CMD INSTALL rawrr StartedAt: 2024-03-03 15:04:18 -0500 (Sun, 03 Mar 2024) EndedAt: 2024-03-03 15:04:28 -0500 (Sun, 03 Mar 2024) EllapsedTime: 10.0 seconds RetCode: 0 Status: OK