Package: randRotation Version: 1.14.0 Command: /Library/Frameworks/R.framework/Resources/bin/R CMD build --keep-empty-dirs --no-resave-data randRotation StartedAt: 2024-04-15 21:07:19 -0400 (Mon, 15 Apr 2024) EndedAt: 2024-04-15 21:11:49 -0400 (Mon, 15 Apr 2024) EllapsedTime: 269.7 seconds RetCode: 0 Status: OK PackageFile: randRotation_1.14.0.tar.gz PackageFileSize: 973.8 KiB